BEGIN:VCALENDAR
PRODID:-//AT Content Types//AT Event//EN
VERSION:2.0
METHOD:PUBLISH
BEGIN:VEVENT
DTSTAMP:20260424T055302Z
CREATED:20190418T135645Z
UID:ATEvent-800a0b84cfc45546af7543cf0c8fd341
LAST-MODIFIED:20190418T135658Z
SUMMARY:SEPTEMBER 28th 2019
DTSTART:20190928T083000Z
DTEND:20190928T173000Z
CLASS:PUBLIC
END:VEVENT
END:VCALENDAR
