BEGIN:VCALENDAR
PRODID:-//AT Content Types//AT Event//EN
VERSION:2.0
METHOD:PUBLISH
BEGIN:VEVENT
DTSTAMP:20260424T053948Z
CREATED:20190903T115355Z
UID:ATEvent-0015e24401edaf55fea0b1cefebd6178
LAST-MODIFIED:20190903T115403Z
SUMMARY:FEBRUARY 29th 2020
DTSTART:20200229T083000Z
DTEND:20200229T173000Z
CLASS:PUBLIC
END:VEVENT
END:VCALENDAR
